BEGIN:VCALENDAR
VERSION:2.0
PRODID:-//Collegio Alessandro Volta - ECPv6.15.15//NONSGML v1.0//EN
CALSCALE:GREGORIAN
METHOD:PUBLISH
X-WR-CALNAME:Collegio Alessandro Volta
X-ORIGINAL-URL:https://collegiovolta.org
X-WR-CALDESC:Eventi per Collegio Alessandro Volta
REFRESH-INTERVAL;VALUE=DURATION:PT1H
X-Robots-Tag:noindex
X-PUBLISHED-TTL:PT1H
BEGIN:VTIMEZONE
TZID:Europe/Rome
BEGIN:DAYLIGHT
TZOFFSETFROM:+0100
TZOFFSETTO:+0200
TZNAME:CEST
DTSTART:20230326T010000
END:DAYLIGHT
BEGIN:STANDARD
TZOFFSETFROM:+0200
TZOFFSETTO:+0100
TZNAME:CET
DTSTART:20231029T010000
END:STANDARD
BEGIN:DAYLIGHT
TZOFFSETFROM:+0100
TZOFFSETTO:+0200
TZNAME:CEST
DTSTART:20240331T010000
END:DAYLIGHT
BEGIN:STANDARD
TZOFFSETFROM:+0200
TZOFFSETTO:+0100
TZNAME:CET
DTSTART:20241027T010000
END:STANDARD
BEGIN:DAYLIGHT
TZOFFSETFROM:+0100
TZOFFSETTO:+0200
TZNAME:CEST
DTSTART:20250330T010000
END:DAYLIGHT
BEGIN:STANDARD
TZOFFSETFROM:+0200
TZOFFSETTO:+0100
TZNAME:CET
DTSTART:20251026T010000
END:STANDARD
END:VTIMEZONE
BEGIN:VEVENT
DTSTART;TZID=Europe/Rome:20240930T210000
DTEND;TZID=Europe/Rome:20240930T223000
DTSTAMP:20260421T132747
CREATED:20240928T092508Z
LAST-MODIFIED:20240928T132756Z
UID:2582-1727730000-1727735400@collegiovolta.org
SUMMARY:Criminali\, geni\, folli e prostitute: la strana vita di Cesare Lombroso
DESCRIPTION:Aula magna Collegio Alessandro Volta \n\n\n\nVia Adolfo Ferrata 17\, 27100 Italy.
URL:https://collegiovolta.org/evento/criminali-geni-folli-e-prostitute-la-strana-vita-di-cesare-lombroso/
ATTACH;FMTTYPE=image/png:https://collegiovolta.org/wp-content/uploads/2024/09/Screenshot-2024-09-27-alle-18.28.06-3.png
END:VEVENT
END:VCALENDAR