BEGIN:VCALENDAR
VERSION:2.0
PRODID:-//Collegio Alessandro Volta - ECPv6.15.15//NONSGML v1.0//EN
CALSCALE:GREGORIAN
METHOD:PUBLISH
X-WR-CALNAME:Collegio Alessandro Volta
X-ORIGINAL-URL:https://collegiovolta.org
X-WR-CALDESC:Eventi per Collegio Alessandro Volta
REFRESH-INTERVAL;VALUE=DURATION:PT1H
X-Robots-Tag:noindex
X-PUBLISHED-TTL:PT1H
BEGIN:VTIMEZONE
TZID:Europe/Rome
BEGIN:DAYLIGHT
TZOFFSETFROM:+0100
TZOFFSETTO:+0200
TZNAME:CEST
DTSTART:20230326T010000
END:DAYLIGHT
BEGIN:STANDARD
TZOFFSETFROM:+0200
TZOFFSETTO:+0100
TZNAME:CET
DTSTART:20231029T010000
END:STANDARD
BEGIN:DAYLIGHT
TZOFFSETFROM:+0100
TZOFFSETTO:+0200
TZNAME:CEST
DTSTART:20240331T010000
END:DAYLIGHT
BEGIN:STANDARD
TZOFFSETFROM:+0200
TZOFFSETTO:+0100
TZNAME:CET
DTSTART:20241027T010000
END:STANDARD
BEGIN:DAYLIGHT
TZOFFSETFROM:+0100
TZOFFSETTO:+0200
TZNAME:CEST
DTSTART:20250330T010000
END:DAYLIGHT
BEGIN:STANDARD
TZOFFSETFROM:+0200
TZOFFSETTO:+0100
TZNAME:CET
DTSTART:20251026T010000
END:STANDARD
BEGIN:DAYLIGHT
TZOFFSETFROM:+0100
TZOFFSETTO:+0200
TZNAME:CEST
DTSTART:20260329T010000
END:DAYLIGHT
BEGIN:STANDARD
TZOFFSETFROM:+0200
TZOFFSETTO:+0100
TZNAME:CET
DTSTART:20261025T010000
END:STANDARD
BEGIN:DAYLIGHT
TZOFFSETFROM:+0100
TZOFFSETTO:+0200
TZNAME:CEST
DTSTART:20270328T010000
END:DAYLIGHT
BEGIN:STANDARD
TZOFFSETFROM:+0200
TZOFFSETTO:+0100
TZNAME:CET
DTSTART:20271031T010000
END:STANDARD
END:VTIMEZONE
BEGIN:VTIMEZONE
TZID:Europe/Paris
BEGIN:DAYLIGHT
TZOFFSETFROM:+0100
TZOFFSETTO:+0200
TZNAME:CEST
DTSTART:20230326T010000
END:DAYLIGHT
BEGIN:STANDARD
TZOFFSETFROM:+0200
TZOFFSETTO:+0100
TZNAME:CET
DTSTART:20231029T010000
END:STANDARD
BEGIN:DAYLIGHT
TZOFFSETFROM:+0100
TZOFFSETTO:+0200
TZNAME:CEST
DTSTART:20240331T010000
END:DAYLIGHT
BEGIN:STANDARD
TZOFFSETFROM:+0200
TZOFFSETTO:+0100
TZNAME:CET
DTSTART:20241027T010000
END:STANDARD
BEGIN:DAYLIGHT
TZOFFSETFROM:+0100
TZOFFSETTO:+0200
TZNAME:CEST
DTSTART:20250330T010000
END:DAYLIGHT
BEGIN:STANDARD
TZOFFSETFROM:+0200
TZOFFSETTO:+0100
TZNAME:CET
DTSTART:20251026T010000
END:STANDARD
END:VTIMEZONE
BEGIN:VEVENT
DTSTART;TZID=Europe/Rome:20260210T180000
DTEND;TZID=Europe/Rome:20260210T190000
DTSTAMP:20260420T175319
CREATED:20260208T132135Z
LAST-MODIFIED:20260208T132350Z
UID:2824-1770746400-1770750000@collegiovolta.org
SUMMARY:Redefining the Design of Plasmonic Nanomaterials
DESCRIPTION:Redefining the Design of Plasmonic Nanomaterials\n\n\n\n\n\n\n\nMartedì 10 Febbraio alle ore 18\, nella Lecture Hall del Collegio Volta\, si terrà la conferenza del Dr. Leonardo Scarabelli dal titolo “Redefining the Design of Plasmonic Nanomaterials”. Leonardo è uno scienziato formatosi nell’università di Pavia\, ha poi proseguito il suo percorso di ricerca in diversi contesti internazionali. Un’occasione aperta a tutti per ascoltare una storia di ricerca\, innovazione e passione scientifica\, pensata non solo per gli addetti ai lavori ma per chiunque sia curioso di scoprire come nasce la scienza di oggi. \n\n\n\nVi Aspettiamo!! \n\n\n\nPunto di raccolta: Collegio Alessandro Volta\, Via Adolfo Ferrata 17\, Pavia... \n\n\n\n#CollegioVolta #Conferenza #Scienza #Ricerca #Nanomaterials
URL:https://collegiovolta.org/evento/2824/
CATEGORIES:Conference Event
ATTACH;FMTTYPE=image/jpeg:https://collegiovolta.org/wp-content/uploads/2026/02/leonardo-2-5-scaled.jpg
END:VEVENT
BEGIN:VEVENT
DTSTART;TZID=Europe/Rome:20250130T204500
DTEND;TZID=Europe/Rome:20250130T224500
DTSTAMP:20260420T175319
CREATED:20250108T221919Z
LAST-MODIFIED:20250108T221922Z
UID:2667-1738269900-1738277100@collegiovolta.org
SUMMARY:Crescita e cambiamento: come cogliere le possibilità che il futuro ci offre
DESCRIPTION:
URL:https://collegiovolta.org/evento/crescita-e-cambiamento-come-cogliere-le-possibilita-che-il-futuro-ci-offre/
CATEGORIES:Conference Event
ATTACH;FMTTYPE=image/jpeg:https://collegiovolta.org/wp-content/uploads/2025/01/Re-30-gennaio.jpg
END:VEVENT
BEGIN:VEVENT
DTSTART;TZID=Europe/Rome:20250116T204500
DTEND;TZID=Europe/Rome:20250116T224500
DTSTAMP:20260420T175319
CREATED:20250108T203946Z
LAST-MODIFIED:20250108T204126Z
UID:2662-1737060300-1737067500@collegiovolta.org
SUMMARY:Salute e motivazione: come sostenere il cambiamento
DESCRIPTION:
URL:https://collegiovolta.org/evento/2662/
CATEGORIES:Conference Event
ATTACH;FMTTYPE=image/jpeg:https://collegiovolta.org/wp-content/uploads/2025/01/Re-e-Pasotti-16-gennaio.jpg
END:VEVENT
BEGIN:VEVENT
DTSTART;TZID=Europe/Rome:20241121T210000
DTEND;TZID=Europe/Rome:20241121T210000
DTSTAMP:20260420T175319
CREATED:20241009T144021Z
LAST-MODIFIED:20241009T144052Z
UID:2637-1732222800-1732222800@collegiovolta.org
SUMMARY:L'astronomia cinese fino al XVII secolo
DESCRIPTION:La conferenza vedrà come relatore il professor Daniele Marini (Università di Milano).
URL:https://collegiovolta.org/evento/2637/
LOCATION:Aula Magna\, Via Adolfo Ferrata 17\, Pavia\, 27100\, Italia
CATEGORIES:Conference Event
ATTACH;FMTTYPE=image/png:https://collegiovolta.org/wp-content/uploads/2024/10/Screenshot-2024-10-09-alle-16.39.03-1.png
END:VEVENT
BEGIN:VEVENT
DTSTART;TZID=Europe/Rome:20241114T210000
DTEND;TZID=Europe/Rome:20241114T210000
DTSTAMP:20260420T175319
CREATED:20241009T143603Z
LAST-MODIFIED:20241009T143606Z
UID:2632-1731618000-1731618000@collegiovolta.org
SUMMARY:Newton e il sistema del mondo
DESCRIPTION:La conferenza vedrà come relatore il professor Paolo Bussotti (Università di Udine).
URL:https://collegiovolta.org/evento/newton-e-il-sistema-del-mondo/
LOCATION:Aula Magna\, Via Adolfo Ferrata 17\, Pavia\, 27100\, Italia
CATEGORIES:Conference Event
ATTACH;FMTTYPE=image/png:https://collegiovolta.org/wp-content/uploads/2024/10/Screenshot-2024-10-09-alle-16.34.29-1.png
END:VEVENT
BEGIN:VEVENT
DTSTART;TZID=Europe/Rome:20241107T210000
DTEND;TZID=Europe/Rome:20241107T210000
DTSTAMP:20260420T175319
CREATED:20241009T143042Z
LAST-MODIFIED:20241009T143044Z
UID:2628-1731013200-1731013200@collegiovolta.org
SUMMARY:Galileo e la cosmologia copernicana
DESCRIPTION:La conferenza vedrà come relatore il professor Franco Giudice (Università Cattolica di Milano).
URL:https://collegiovolta.org/evento/galileo-e-la-cosmologia-copernicana/
LOCATION:Aula Magna\, Via Adolfo Ferrata 17\, Pavia\, 27100\, Italia
CATEGORIES:Conference Event
ATTACH;FMTTYPE=image/png:https://collegiovolta.org/wp-content/uploads/2024/10/Screenshot-2024-10-09-alle-16.28.53-1.png
END:VEVENT
BEGIN:VEVENT
DTSTART;TZID=Europe/Rome:20241024T210000
DTEND;TZID=Europe/Rome:20241024T210000
DTSTAMP:20260420T175319
CREATED:20241009T142651Z
LAST-MODIFIED:20241009T142735Z
UID:2622-1729803600-1729803600@collegiovolta.org
SUMMARY:Brahe e Kepler\, uno scontro tra giganti
DESCRIPTION:La conferenza vedrà come relatore il professor Gianluca Introzzi (Università di Pavia).
URL:https://collegiovolta.org/evento/brahe-e-keplern-uno-scontro-tra-giganti/
LOCATION:Aula Magna\, Via Adolfo Ferrata 17\, Pavia\, 27100\, Italia
CATEGORIES:Conference Event
ATTACH;FMTTYPE=image/png:https://collegiovolta.org/wp-content/uploads/2024/10/Screenshot-2024-10-09-alle-16.24.15-2.png
END:VEVENT
BEGIN:VEVENT
DTSTART;TZID=Europe/Rome:20241017T210000
DTEND;TZID=Europe/Rome:20241017T210000
DTSTAMP:20260420T175319
CREATED:20241004T141631Z
LAST-MODIFIED:20241004T141735Z
UID:2616-1729198800-1729198800@collegiovolta.org
SUMMARY:Niccolò Copernico\, un rivoluzionario prudente
DESCRIPTION:La conferenza vedrà come relatore il professor Gianluca Introzzi (Università di Pavia).
URL:https://collegiovolta.org/evento/niccolo-copernico-un-rivoluzionario-prudente/
LOCATION:Aula Magna\, VIa Adolfo Ferrata 17\, Pavia\, 27100\, Italia
CATEGORIES:Conference Event
ATTACH;FMTTYPE=image/png:https://collegiovolta.org/wp-content/uploads/2024/10/Screenshot-2024-10-04-alle-16.13.16-1.png
END:VEVENT
BEGIN:VEVENT
DTSTART;TZID=Europe/Rome:20241010T210000
DTEND;TZID=Europe/Rome:20241010T210000
DTSTAMP:20260420T175319
CREATED:20241004T141015Z
LAST-MODIFIED:20241004T141018Z
UID:2610-1728594000-1728594000@collegiovolta.org
SUMMARY:Nascita dell'astronomia geometrica
DESCRIPTION:La conferenza vedrà come relatore il professor Daniele Marini (Università di Milano)
URL:https://collegiovolta.org/evento/nascita-dellastronomia-geometrica/
LOCATION:Aula Magna\, Via Adolfo Ferrata 17\, Pavia\, 27100\, Italia
CATEGORIES:Conference Event
ATTACH;FMTTYPE=image/png:https://collegiovolta.org/wp-content/uploads/2024/10/Screenshot-2024-10-04-alle-16.05.39-1.png
END:VEVENT
BEGIN:VEVENT
DTSTART;TZID=Europe/Rome:20241003T210000
DTEND;TZID=Europe/Rome:20241003T223000
DTSTAMP:20260420T175319
CREATED:20240928T094623Z
LAST-MODIFIED:20240928T132550Z
UID:2599-1727989200-1727994600@collegiovolta.org
SUMMARY:Il Cielo degli Antichi
DESCRIPTION:Aula magna Collegio Alessandro Volta \n\n\n\nVia Adolfo Ferrata 17\, 27100 Pavia (Italy).
URL:https://collegiovolta.org/evento/il-cielo-degli-antichi/
CATEGORIES:Conference Event
ATTACH;FMTTYPE=image/png:https://collegiovolta.org/wp-content/uploads/2024/09/Screenshot-2024-09-27-alle-18.19.59-5.png
END:VEVENT
BEGIN:VEVENT
DTSTART;TZID=Europe/Rome:20241002T210000
DTEND;TZID=Europe/Rome:20241002T223000
DTSTAMP:20260420T175319
CREATED:20240928T094032Z
LAST-MODIFIED:20240928T132630Z
UID:2594-1727902800-1727908200@collegiovolta.org
SUMMARY:L'invenzione della pila di Volta e la sua diffusione nell'Europa in guerra nell'anno 1800
DESCRIPTION:Aula Magna Collegio Alessandro Volta \n\n\n\nVia Adolfo Ferrata 17\, 27100 Pavia (Italy).
URL:https://collegiovolta.org/evento/2594/
CATEGORIES:Conference Event
ATTACH;FMTTYPE=image/png:https://collegiovolta.org/wp-content/uploads/2024/09/Screenshot-2024-09-27-alle-18.37.11-3.png
END:VEVENT
BEGIN:VEVENT
DTSTART;TZID=Europe/Rome:20241001T210000
DTEND;TZID=Europe/Rome:20241001T223000
DTSTAMP:20260420T175319
CREATED:20240928T093122Z
LAST-MODIFIED:20240928T132709Z
UID:2589-1727816400-1727821800@collegiovolta.org
SUMMARY:Stanislao Cannizzaro: Chimica e Rivoluzione
DESCRIPTION:Aula magna Collegio Alessandro Volta \n\n\n\nVia Adolfo Ferrata 17\, 27100 Pavia (Italy).
URL:https://collegiovolta.org/evento/stanislao-cannizzaro-chimica-e-rivoluzione/
CATEGORIES:Conference Event
ATTACH;FMTTYPE=image/png:https://collegiovolta.org/wp-content/uploads/2024/09/Screenshot-2024-09-27-alle-17.09.40-4.png
END:VEVENT
BEGIN:VEVENT
DTSTART;TZID=Europe/Rome:20240930T210000
DTEND;TZID=Europe/Rome:20240930T223000
DTSTAMP:20260420T175319
CREATED:20240928T092508Z
LAST-MODIFIED:20240928T132756Z
UID:2582-1727730000-1727735400@collegiovolta.org
SUMMARY:Criminali\, geni\, folli e prostitute: la strana vita di Cesare Lombroso
DESCRIPTION:Aula magna Collegio Alessandro Volta \n\n\n\nVia Adolfo Ferrata 17\, 27100 Italy.
URL:https://collegiovolta.org/evento/criminali-geni-folli-e-prostitute-la-strana-vita-di-cesare-lombroso/
ATTACH;FMTTYPE=image/png:https://collegiovolta.org/wp-content/uploads/2024/09/Screenshot-2024-09-27-alle-18.28.06-3.png
END:VEVENT
BEGIN:VEVENT
DTSTART;TZID=Europe/Rome:20240612T180000
DTEND;TZID=Europe/Rome:20240612T193000
DTSTAMP:20260420T175319
CREATED:20240606T171900Z
LAST-MODIFIED:20240606T171901Z
UID:2521-1718215200-1718220600@collegiovolta.org
SUMMARY:Enabling discovery through collaboration: the Global Parkinson’s Genetics Program
DESCRIPTION:Marco Fraccaro Lecture 2024
URL:https://collegiovolta.org/evento/enabling-discovery-through-collaboration-the-global-parkinsons-genetics-program/
END:VEVENT
BEGIN:VEVENT
DTSTART;TZID=Europe/Paris:20240418T210000
DTEND;TZID=Europe/Paris:20240418T220000
DTSTAMP:20260420T175319
CREATED:20240428T145449Z
LAST-MODIFIED:20240529T174946Z
UID:1826-1713474000-1713477600@collegiovolta.org
SUMMARY:Financial Markets and Complex Systems
DESCRIPTION:“Financial Markets and Complex Systems”\, vedrà come relatore il prof. Fabrizio Lillo (Scuola Normale Superiore\, Pisa).
URL:https://collegiovolta.org/evento/financial-markets-and-complex-systems/
LOCATION:Lecture Hall\, Via Adolfo Ferrata 17\, Pavia\, Pavia\, 27100\, Italia
CATEGORIES:Conference Event
ATTACH;FMTTYPE=image/png:https://collegiovolta.org/wp-content/uploads/2024/03/Volta_DynamicalSystems_Light-1.png
END:VEVENT
BEGIN:VEVENT
DTSTART;TZID=Europe/Paris:20240411T160000
DTEND;TZID=Europe/Paris:20240411T170000
DTSTAMP:20260420T175319
CREATED:20240428T152414Z
LAST-MODIFIED:20240529T174946Z
UID:1846-1712851200-1712854800@collegiovolta.org
SUMMARY:Hybrid Perovskite Solar Cells: a game changer for near-future Photovoltaics
DESCRIPTION:
URL:https://collegiovolta.org/evento/hybrid-perovskite-solar-cells-a-game-changer-for-near-future-photovoltaics/
LOCATION:Lecture Hall\, Via Adolfo Ferrata 17\, Pavia\, Pavia\, 27100\, Italia
CATEGORIES:Conference Event
ATTACH;FMTTYPE=image/png:https://collegiovolta.org/wp-content/uploads/2024/04/Grancini-11-marzo.png
END:VEVENT
BEGIN:VEVENT
DTSTART;TZID=Europe/Paris:20240410T160000
DTEND;TZID=Europe/Paris:20240410T170000
DTSTAMP:20260420T175319
CREATED:20240428T151431Z
LAST-MODIFIED:20240529T174946Z
UID:1838-1712764800-1712768400@collegiovolta.org
SUMMARY:Le strade della transizione energetica
DESCRIPTION:
URL:https://collegiovolta.org/evento/le-strade-della-transizione-energetica/
LOCATION:Lecture Hall\, Via Adolfo Ferrata 17\, Pavia\, Pavia\, 27100\, Italia
CATEGORIES:Conference Event
ATTACH;FMTTYPE=image/png:https://collegiovolta.org/wp-content/uploads/2024/04/Armaroli-10-aprile.png
END:VEVENT
BEGIN:VEVENT
DTSTART;TZID=Europe/Paris:20240404T210000
DTEND;TZID=Europe/Paris:20240404T220000
DTSTAMP:20260420T175319
CREATED:20240428T151628Z
LAST-MODIFIED:20240529T174946Z
UID:1842-1712264400-1712268000@collegiovolta.org
SUMMARY:Towards an Understanding of the Brain
DESCRIPTION:“Towards an Understanding of the Brain”\, vedrà come relatore il prof. Alessandro Treves (SISSA\, Trieste). 
URL:https://collegiovolta.org/evento/towards-an-understanding-of-the-brain/
LOCATION:Lecture Hall\, Via Adolfo Ferrata 17\, Pavia\, Pavia\, 27100\, Italia
CATEGORIES:Conference Event
ATTACH;FMTTYPE=image/png:https://collegiovolta.org/wp-content/uploads/2024/03/Volta_DynamicalSystems_Light-1.png
END:VEVENT
BEGIN:VEVENT
DTSTART;TZID=Europe/Paris:20240321T210000
DTEND;TZID=Europe/Paris:20240321T220000
DTSTAMP:20260420T175319
CREATED:20240428T151832Z
LAST-MODIFIED:20240529T174946Z
UID:1844-1711054800-1711058400@collegiovolta.org
SUMMARY:Mechanisms of Collective Behavior
DESCRIPTION:“Mechanisms of Collective Behavior”\, vedrà come relatore il prof. Francesco Ginelli (Università dell’Insubria). 
URL:https://collegiovolta.org/evento/mechanisms-of-collective-behavior/
LOCATION:Lecture Hall\, Via Adolfo Ferrata 17\, Pavia\, Pavia\, 27100\, Italia
CATEGORIES:Conference Event
ATTACH;FMTTYPE=image/png:https://collegiovolta.org/wp-content/uploads/2024/03/Volta_DynamicalSystems_Light-1.png
END:VEVENT
BEGIN:VEVENT
DTSTART;TZID=Europe/Paris:20240307T210000
DTEND;TZID=Europe/Paris:20240307T220000
DTSTAMP:20260420T175319
CREATED:20240428T152544Z
LAST-MODIFIED:20240529T174946Z
UID:1848-1709845200-1709848800@collegiovolta.org
SUMMARY:An Introduction to Dynamical Systems
DESCRIPTION:“An Introduction to Dynamical Systems”\, vedrà come relatore il prof. Angelo Vulpiani (Università “La Sapienza”\, Roma). 
URL:https://collegiovolta.org/evento/an-introduction-to-dynamical-systems/
LOCATION:Lecture Hall\, Via Adolfo Ferrata 17\, Pavia\, Pavia\, 27100\, Italia
CATEGORIES:Conference Event
ATTACH;FMTTYPE=image/png:https://collegiovolta.org/wp-content/uploads/2024/03/Volta_DynamicalSystems_Light-1.png
END:VEVENT
END:VCALENDAR