BEGIN:VCALENDAR
VERSION:2.0
PRODID:-//Collegio Alessandro Volta - ECPv6.15.15//NONSGML v1.0//EN
CALSCALE:GREGORIAN
METHOD:PUBLISH
X-WR-CALNAME:Collegio Alessandro Volta
X-ORIGINAL-URL:https://collegiovolta.org
X-WR-CALDESC:Eventi per Collegio Alessandro Volta
REFRESH-INTERVAL;VALUE=DURATION:PT1H
X-Robots-Tag:noindex
X-PUBLISHED-TTL:PT1H
BEGIN:VTIMEZONE
TZID:Europe/Rome
BEGIN:DAYLIGHT
TZOFFSETFROM:+0100
TZOFFSETTO:+0200
TZNAME:CEST
DTSTART:20230326T010000
END:DAYLIGHT
BEGIN:STANDARD
TZOFFSETFROM:+0200
TZOFFSETTO:+0100
TZNAME:CET
DTSTART:20231029T010000
END:STANDARD
BEGIN:DAYLIGHT
TZOFFSETFROM:+0100
TZOFFSETTO:+0200
TZNAME:CEST
DTSTART:20240331T010000
END:DAYLIGHT
BEGIN:STANDARD
TZOFFSETFROM:+0200
TZOFFSETTO:+0100
TZNAME:CET
DTSTART:20241027T010000
END:STANDARD
BEGIN:DAYLIGHT
TZOFFSETFROM:+0100
TZOFFSETTO:+0200
TZNAME:CEST
DTSTART:20250330T010000
END:DAYLIGHT
BEGIN:STANDARD
TZOFFSETFROM:+0200
TZOFFSETTO:+0100
TZNAME:CET
DTSTART:20251026T010000
END:STANDARD
END:VTIMEZONE
BEGIN:VEVENT
DTSTART;TZID=Europe/Rome:20241001T210000
DTEND;TZID=Europe/Rome:20241001T223000
DTSTAMP:20260421T122848
CREATED:20240928T093122Z
LAST-MODIFIED:20240928T132709Z
UID:2589-1727816400-1727821800@collegiovolta.org
SUMMARY:Stanislao Cannizzaro: Chimica e Rivoluzione
DESCRIPTION:Aula magna Collegio Alessandro Volta \n\n\n\nVia Adolfo Ferrata 17\, 27100 Pavia (Italy).
URL:https://collegiovolta.org/evento/stanislao-cannizzaro-chimica-e-rivoluzione/
CATEGORIES:Conference Event
ATTACH;FMTTYPE=image/png:https://collegiovolta.org/wp-content/uploads/2024/09/Screenshot-2024-09-27-alle-17.09.40-4.png
END:VEVENT
BEGIN:VEVENT
DTSTART;TZID=Europe/Rome:20241002T210000
DTEND;TZID=Europe/Rome:20241002T223000
DTSTAMP:20260421T122848
CREATED:20240928T094032Z
LAST-MODIFIED:20240928T132630Z
UID:2594-1727902800-1727908200@collegiovolta.org
SUMMARY:L'invenzione della pila di Volta e la sua diffusione nell'Europa in guerra nell'anno 1800
DESCRIPTION:Aula Magna Collegio Alessandro Volta \n\n\n\nVia Adolfo Ferrata 17\, 27100 Pavia (Italy).
URL:https://collegiovolta.org/evento/2594/
CATEGORIES:Conference Event
ATTACH;FMTTYPE=image/png:https://collegiovolta.org/wp-content/uploads/2024/09/Screenshot-2024-09-27-alle-18.37.11-3.png
END:VEVENT
BEGIN:VEVENT
DTSTART;TZID=Europe/Rome:20241003T210000
DTEND;TZID=Europe/Rome:20241003T223000
DTSTAMP:20260421T122848
CREATED:20240928T094623Z
LAST-MODIFIED:20240928T132550Z
UID:2599-1727989200-1727994600@collegiovolta.org
SUMMARY:Il Cielo degli Antichi
DESCRIPTION:Aula magna Collegio Alessandro Volta \n\n\n\nVia Adolfo Ferrata 17\, 27100 Pavia (Italy).
URL:https://collegiovolta.org/evento/il-cielo-degli-antichi/
CATEGORIES:Conference Event
ATTACH;FMTTYPE=image/png:https://collegiovolta.org/wp-content/uploads/2024/09/Screenshot-2024-09-27-alle-18.19.59-5.png
END:VEVENT
BEGIN:VEVENT
DTSTART;TZID=Europe/Rome:20241010T210000
DTEND;TZID=Europe/Rome:20241010T210000
DTSTAMP:20260421T122848
CREATED:20241004T141015Z
LAST-MODIFIED:20241004T141018Z
UID:2610-1728594000-1728594000@collegiovolta.org
SUMMARY:Nascita dell'astronomia geometrica
DESCRIPTION:La conferenza vedrà come relatore il professor Daniele Marini (Università di Milano)
URL:https://collegiovolta.org/evento/nascita-dellastronomia-geometrica/
LOCATION:Aula Magna\, Via Adolfo Ferrata 17\, Pavia\, 27100\, Italia
CATEGORIES:Conference Event
ATTACH;FMTTYPE=image/png:https://collegiovolta.org/wp-content/uploads/2024/10/Screenshot-2024-10-04-alle-16.05.39-1.png
END:VEVENT
BEGIN:VEVENT
DTSTART;TZID=Europe/Rome:20241017T210000
DTEND;TZID=Europe/Rome:20241017T210000
DTSTAMP:20260421T122848
CREATED:20241004T141631Z
LAST-MODIFIED:20241004T141735Z
UID:2616-1729198800-1729198800@collegiovolta.org
SUMMARY:Niccolò Copernico\, un rivoluzionario prudente
DESCRIPTION:La conferenza vedrà come relatore il professor Gianluca Introzzi (Università di Pavia).
URL:https://collegiovolta.org/evento/niccolo-copernico-un-rivoluzionario-prudente/
LOCATION:Aula Magna\, VIa Adolfo Ferrata 17\, Pavia\, 27100\, Italia
CATEGORIES:Conference Event
ATTACH;FMTTYPE=image/png:https://collegiovolta.org/wp-content/uploads/2024/10/Screenshot-2024-10-04-alle-16.13.16-1.png
END:VEVENT
BEGIN:VEVENT
DTSTART;TZID=Europe/Rome:20241024T210000
DTEND;TZID=Europe/Rome:20241024T210000
DTSTAMP:20260421T122848
CREATED:20241009T142651Z
LAST-MODIFIED:20241009T142735Z
UID:2622-1729803600-1729803600@collegiovolta.org
SUMMARY:Brahe e Kepler\, uno scontro tra giganti
DESCRIPTION:La conferenza vedrà come relatore il professor Gianluca Introzzi (Università di Pavia).
URL:https://collegiovolta.org/evento/brahe-e-keplern-uno-scontro-tra-giganti/
LOCATION:Aula Magna\, Via Adolfo Ferrata 17\, Pavia\, 27100\, Italia
CATEGORIES:Conference Event
ATTACH;FMTTYPE=image/png:https://collegiovolta.org/wp-content/uploads/2024/10/Screenshot-2024-10-09-alle-16.24.15-2.png
END:VEVENT
END:VCALENDAR